Workbook

Sheet Assumptions
B2: Biotechnology Valuation
B3: Model Assumptions
B6: Assumptions | C6: Justification
B7: Comparable Analysis
B8: High Growth companies | C8: Very high CAGR, accelerating market penetration, reputation
B9: Medium growth companies | C9: Medium CAGR
B10: Maturity Growth companies | C10: Big Pharma growing slowly
B11: Outliers | C11: Data that diverges significantly from mean and median values of the sample
B12: Discount Rate
B13: Decreasing beta as product progresses to final stage of clinical development | C13: Risk of the firm and the project decreases as the product gets closer to the market
B14: Risk free rate: U.S. 10-year treasury bond | C14: DCF is applied for a U.S. company and for a 10 year period, therefore 10-y treasury bond is representative to risk free rate
B15: Market Risk Premium | C15: Long-term market risk premium is 6.5% to 7.0% as defined by Ibbotson
B16: DCF Market
B17: COGS, SG&A, EBIT Margin, WACC | C17: The mean was used for the corresponding period (high-growth, medium-growth, maturity). It is assumed that the companies used are comparable and similar to the company that is valued
B18: GDP Growth: 3.0% | C18: Global economic steady-state growth
B19: NPV Model
B20: The company is assumed to have one project at hand in late Research phase | C20: The company is a start-up which implies that the risk of the company is similar to the risk of the project
B21: Average success rates by phase have been used | C21: Average success rates differ by therapeutic area. In this case the company is assumed to have an oncology project at hand
B22: Each phase is assumed to last 2 years | C22: Average time for each phase might differ by few months but approximately 2 years is the most frequent duration for each phase
B23: Total (nominal) cost for late research phase and clinical trials is assumed at USD 200 mn. | C23: Average cost for a New Molecular Entity (NME) is approximately USD 800 mn. according to Dimasi. However, this figure represents the cost of each successful product (i.e. includes cost of failures in clinical development)

Sheet Comparable_Analysis
B2: Biotechnology Valuation
B3: Comparable Analysis for DCF
E5: Data in red are considered as outliers
B6: Company Name | C6: Country | D6: Compound Annual Growth Rate (3-Year) | E6: COGS (as a % of sales) | F6: SG&A (as a % of sales) | G6: EBIT Margin (3-Year Average) | H6: WACC
B7: High Growth Period (2020 - 2024)
B8: Company 1 | C8: United States | D8: 0.63743988 | E8: 0.024189332 | F8: 0 | G8: -1.2636725 | H8: 0.12757
B9: Company 2 | C9: United States | D9: 0.57853789 | E9: 0.01993203 | F9: 0.54542365 | G9: -0.28929557 | H9: 0.11378
B10: Company 3 | C10: United States | D10: 0.46946976 | E10: 0.11644609 | F10: 0.4750698 | G10: 0.27179651 | H10: 0.09771
B11: Company 4 | C11: United States | D11: 0.30363609 | E11: 0.076804458 | F11: 0.54258781 | G11: 0.28912811 | H11: 0.08866
B12: Company 5 | C12: United States | D12: 0.31844715 | E12: 0.56617159 | F12: 0 | G12: 0.12220758 | H12: 0.06313
B13: Company 6 | C13: United States | D13: 0.1441004 | E13: 0.24271221 | F13: 0.047811651 | G13: 0.48458095 | H13: 0.08724
B14: Company 7 | C14: United States | D14: 0.1174089 | E14: 0.14630626 | F14: 0.45522083 | G14: 0.2419937 | H14: 0.08319
B15: Company 8 | C15: United States | D15: 0.10897151 | E15: 0.090874566 | F15: 0.48964842 | G15: 0.32704579 | H15: 0.09702
B16: Company 9 | C16: Belgium | D16: 0.13544257 | E16: 0.32547261 | F16: 0.4444645 | G16: -0.10355599 | H16: 0.06955
B17: Company 10 | C17: United States | D17: 0.18621097 | E17: 0.19089399 | F17: 0.67942539 | G17: -0.0082472633 | H17: 0.08356
B18: Medium Growth Period (2025 - 2029)
B19: Company 1 | C19: United Kingdom | D19: 0.235069 | E19: 0.53762328 | F19: -0.25011798 | G19: 0.17774188 | H19: 0.09325
B20: Company 2 | C20: United States | D20: 0.23113392 | E20: 0.31618699 | F20: 0.150054 | G20: 0.22236342 | H20: 0.07972
B21: Company 3 | C21: United States | D21: 0.23090238 | E21: 0.35078656 | F21: 0.11863239 | G21: 0.16438094 | H21: 0.07296
B22: Company 4 | C22: United Kingdom | D22: 0.22361141 | E22: 0.31506521 | F22: 0.012358358 | G22: 0.35980768 | H22: 0.08614
B23: Company 5 | C23: Switzerland | D23: 0.2225876 | E23: 0.75400465 | F23: -0.58220564 | G23: 0.10845125 | H23: 0.07275
B24: Company 6 | C24: United States | D24: 0.22030992 | E24: 0.31519615 | F24: 0.2740363 | G24: 0.090051093 | H24: 0.10311
B25: Company 7 | C25: United States | D25: 0.21934406 | E25: 0.12462632 | F25: 0.37568377 | G25: 0.37613663 | H25: 0.10208
B26: Company 8 | C26: Sweden | D26: 0.21828156 | E26: 0.39958447 | F26: 0.33129957 | G26: -0.034238577 | H26: 0.07057
B27: Company 9 | C27: United States | D27: 0.21268445 | E27: 0.22668003 | F27: 0.26500332 | G27: 0.28671443 | H27: 0.08382
B28: Company 10 | C28: United States | D28: 0.20654068 | E28: 0.46818179 | F28: -0.20142462 | G28: 0.30025713 | H28: 0.09638
B29: Maturity Period (2030 - 2034)
B30: Company 1 | C30: United States | D30: 0.055 | E30: 0.30914848 | F30: 0.1179087 | G30: 0.26259202 | H30: 0.07498
B31: Company 2 | C31: Switzerland | D31: 0.051 | E31: 0.27832186 | F31: 0.1379415 | G31: 0.34304789 | H31: 0.08408
B32: Company 3 | C32: United States | D32: 0.085 | E32: 0.17646022 | F32: 0.33396479 | G32: 0.32514882 | H32: 0.07335
B33: Company 4 | C33: France | D33: 0.06 | E33: 0.3009745 | F33: 0.19503932 | G33: 0.25122348 | H33: 0.08478
B34: Company 5 | C34: United Kingdom | D34: 0.008 | E34: 0.2673006 | F34: 0.24625004 | G34: 0.27855473 | H34: 0.07328
B35: Company 6 | C35: United States | D35: 0.085 | E35: 0.15374702 | F35: 0.33055947 | G35: 0.34690803 | H35: 0.07028
B36: Company 7 | C36: United States | D36: 0.005 | E36: 0.26731373 | F36: 0.18260298 | G36: 0.29410173 | H36: 0.07438
B37: Company 8 | C37: United States | D37: 0.039 | E37: 0.20114474 | F37: 0.32720444 | G37: 0.28177809 | H37: 0.07498
B38: Company 9 | C38: Japan | D38: 0.094 | E38: 0.24818304 | F38: 0.2862956 | G38: 0.240302 | H38: 0.07447
B39: Company 10 | C39: Japan | D39: 0.084 | E39: 0.31449227 | F39: 0.21931159 | G39: 0.15060556 | H39: 0.0815
B40: High Growth Period Mean | D40: 0.3 | E40: 0.16993003 | F40: 0.51883434 | G40: 0.28945877 | H40: 0.091141
B41: High Growth Period Median | D41: 0.24492353 | E41: 0.14630626 | F41: 0.48964842 | G41: 0.28046231 | H41: 0.08795
B42: Medium Period Mean | D42: 0.2220465 | E42: 0.38079354 | F42: 0.25245156 | G42: 0.26962887 | H42: 0.086078
...

Sheet R&D Cost
B2: Biotechnology Valuation
B3: Indicative R&D costs for start-ups
B5: Phase | C5: Cost (USD mn.)
B6: Lead Optimisation | C6: 2 - 3
B7: Pre-clinical Phase | C7: 2 - 3
B8: Phase I | C8: 1 - 5
B9: Phase II | C9: 3 - 11
B10: Phase III | C10: 10 - 60
B11: Approval | C11: 2 - 4
B13: Source: Bogdan and Villiger (2010), Valuation in Life Sciences

Sheet Discount Rate_R&D
B2: Biotechnology Valuation
B3: Discount Rate Estimation
B5: Capital Asset Pricing Model
B6: Risk Free Rate (10 y US bond) | C6: 0.03
B7: Market Risk Premium (Ibbotson) | C7: 0.07
B9: Discount Rate by Phase | C9: Research | D9: Phase I | E9: Phase II | F9: Phase III | G9: Reg.
B10: Decreasing Beta (Golec and Vernon, Ibbotson, DiMasi) | C10: 2.4 | D10: 2 | E10: 1.8 | F10: 1.6 | G10: 1.4
B11: Discount rate | C11: =$C$6+$C$7*C10 -> 0.198 | D11: =$C$6+$C$7*D10 -> 0.17 | E11: =$C$6+$C$7*E10 -> 0.156 | F11: =$C$6+$C$7*F10 -> 0.142 | G11: =$C$6+$C$7*G10 -> 0.128

Sheet NPV_R&D
B2: Biotechnology Valuation
B3: NPV of the Project
B4: Amounts in USD mn.
C6: NPV
E7: Research & Preclinical | G7: Phase I | I7: Phase II | K7: Phase III | M7: FDA Review | O7: Sales
E8: Year | G8: Year | I8: Year | K8: Year | M8: Year | O8: Year
C9: Year | D9: 2013 | E9: 1 | G9: 4 | I9: 6 | K9: 8 | M9: 10 | O9: 12
C10: R&D expenditure | E10: -10 | G10: -5 | I10: -10 | K10: -50 | M10: -5
C11: Discount Rate | F11: ='Discount Rate_R&D'!C11 -> 0.198 | H11: ='Discount Rate_R&D'!D11 -> 0.17 | J11: ='Discount Rate_R&D'!E11 -> 0.156 | L11: ='Discount Rate_R&D'!F11 -> 0.142 | N11: ='Discount Rate_R&D'!G11 -> 0.128 | O11: DCF Valuation
C12: Probability of Success | E12: 1 | G12: 0.27 | I12: 0.6 | K12: 0.33 | M12: 0.91 | O12: =DCF_Market!E29 -> 1769.0827
D14: Discount Rate | E14: NPV
C15: Regulatory Phase | D15: 0.128 | E15: =O12*M12/(1+N11)^(O9-M9)+M10 -> 1260.2353
C16: Phase III | D16: 0.142 | E16: =E15*K12/(1+L11)^(M9-K9)+K10 -> 268.88448
C17: Phase II | D17: 0.156 | E17: =E16*I12/(1+J11)^(K9-I9)+I10 -> 110.72614
C18: Phase I | D18: 0.17 | E18: =E17*G12/(1+H11)^(I9-G9)+G10 -> 16.839476
C19: Total E(NPV) | D19: 0.198 | E19: =E18*E12/(1+F11)^(G9-E9)+E10 -> -0.20604472
C35: Sensitivity Analysis (DCF Valuation vs. NPV)
C37: DCF Valuation | D37: NPV of Project
C38: 77 | D38: -15.977932
C39: 130 | D39: -15.48392
C40: 154 | D40: -15.260216
C41: 223 | D41: -14.617067
C42: 231 | D42: -14.542499
C43: 261 | D43: -14.26287
C44: 307 | D44: -13.834104
C45: 381 | D45: -13.144351
C46: 384 | D46: -13.116388
C47: 391 | D47: -13.051141
C48: 446 | D48: -12.538486
C49: 461 | D49: -12.398671
... C93: 3592.1407 | D93: 16.786663
B246: 8

Sheet DCF_Market
B2: Biotechnology Valuation
B3: DCF Valuation
B4: Amounts in USD mn.
C6: DCF Valuation | E6: 2025 | F6: =E6+1 -> 2026 | G6: =F6+1 -> 2027 | H6: =G6+1 -> 2028 | I6: =H6+1 -> 2029 | J6: =I6+1 -> 2030 | K6: =J6+1 -> 2031 | L6: =K6+1 -> 2032 | M6: =L6+1 -> 2033 | ... S6: =R6+1 -> 2039
C7: Year | E7: 1 | F7: 2 | G7: 3 | H7: 4 | I7: 5 | J7: 6 | K7: 7 | L7: 8 | M7: 9 | N7: 10 | O7: 11 | P7: 12 | Q7: 13 | R7: 14 | S7: 15
C8: Sales | E8: 132 | F8: =$E$8*(1+$E$10)^E7 -> 156.816 | G8: =$E$8*(1+$E$10)^F7 -> 186.29741 | H8: =$E$8*(1+$E$10)^G7 -> 221.32132 | I8: =$E$8*(1+$E$10)^H7 -> 262.92973 | J8: =$E$8*(1+$E$10)^I7 -> 312.36052 | K8: =$E$8*(1+$E$10)^J7 -> 371.0843 | L8: =$E$8*(1+$E$10)^K7 -> 440.84814 | M8: =$E$8*(1+$E$10)^L7 -> 523.72759 | ... S8: =$E$8*(1+$E$10)^R7 -> 1472.3264
C9: Year-on-Year CAGR | F9: 0.29996651 | G9: 0.29996651 | H9: 0.29996651 | I9: 0.29996651 | J9: 0.2220465 | K9: 0.2220465 | L9: 0.2220465 | M9: 0.2220465 | N9: 0.2220465 | O9: 0.0566 | P9: 0.0566 | Q9: 0.0566 | R9: 0.0566 | S9: 0.0566
C10: Total CAGR | E10: 0.188
C11: COGS % of sales | E11: 0.16993003 | F11: 0.16993003 | G11: 0.16993003 | H11: 0.16993003 | I11: 0.16993003 | J11: 0.38079354 | K11: 0.38079354 | L11: 0.38079354 | M11: 0.38079354 | N11: 0.38079354 | O11: 0.25170865 | P11: 0.25170865 | Q11: 0.25170865 | R11: 0.25170865 | S11: 0.25170865
C12: COGS | E12: =E11*E8 -> 22.430763 | F12: =F11*F8 -> 26.647747 | G12: =G11*G8 -> 31.657523 | H12: =H11*H8 -> 37.609138 | I12: =I11*I8 -> 44.679655 | J12: =J11*J8 -> 118.94487 | K12: =K11*K8 -> 141.3065 | L12: =L11*L8 -> 167.87213 | ... S12: =S11*S8 -> 370.59728
C13: SGA % of sales | E13: 0.51883434 | F13: 0.51883434 | G13: 0.51883434 | H13: 0.51883434 | I13: 0.51883434 | J13: 0.25245156 | K13: 0.25245156 | L13: 0.25245156 | M13: 0.25245156 | N13: 0.25245156 | O13: 0.23770784 | P13: 0.23770784 | Q13: 0.23770784 | R13: 0.23770784 | S13: 0.23770784
C14: SGA | E14: =E13*E8 -> 68.486133 | F14: =F13*F8 -> 81.361526 | G14: =G13*G8 -> 96.657493 | H14: =H13*H8 -> 114.8291 | I14: =I13*I8 -> 136.41697 | J14: =J13*J8 -> 78.8559 | K14: =K13*K8 -> 93.680809 | L14: =L13*L8 -> 111.2928 | ... S14: =S13*S8 -> 349.98353
C15: EBIT % of sales | E15: 0.29 | F15: 0.29 | G15: 0.28945877 | H15: 0.28945877 | I15: 0.28945877 | J15: 0.26962887 | K15: 0.26962887 | L15: 0.26962887 | M15: 0.26962887 | N15: 0.26962887 | O15: 0.27742624 | P15: 0.27742624 | Q15: 0.27742624 | R15: 0.27742624 | S15: 0.27742624
C16: EBIT | E16: =E15*E8 -> 38.28 | F16: =F15*F8 -> 45.47664 | G16: =G15*G8 -> 53.925419 | H16: =H15*H8 -> 64.063398 | I16: =I15*I8 -> 76.107317 | J16: =J15*J8 -> 84.221414 | K16: =K15*K8 -> 100.05504 | L16: =L15*L8 -> 118.86539 | ... S16: =S15*S8 -> 408.46197
C17: Tax rate | D17: 0.26
C18: CAPEX % of Sales | E18: 0.05 | F18: 0.05 | G18: 0.05 | H18: 0.05 | I18: 0.05 | J18: 0.04 | K18: 0.04 | L18: 0.04 | M18: 0.04 | N18: 0.04 | O18: 0.03 | P18: 0.03 | Q18: 0.03 | R18: 0.03 | S18: 0.03
C19: CAPEX | E19: =E18*E8 -> 6.6 | F19: =F18*F8 -> 7.8408 | G19: =G18*G8 -> 9.3148704 | H19: =H18*H8 -> 11.066066 | I19: =I18*I8 -> 13.146486 | J19: =J18*J8 -> 12.494421 | K19: =K18*K8 -> 14.843372 | L19: =L18*L8 -> 17.633926 | ... S19: =S18*S8 -> 44.169792
C20: Working Capital % of Sales | E20: 0.05 | F20: 0.05 | G20: 0.05 | H20: 0.05 | I20: 0.05 | J20: 0.05 | K20: 0.05 | L20: 0.05 | M20: 0.05 | N20: 0.05 | O20: 0.05 | P20: 0.05 | Q20: 0.05 | R20: 0.05 | S20: 0.05
C21: Working Capital | E21: =E20*E8 -> 6.6 | F21: =F20*F8 -> 7.8408 | G21: =G20*G8 -> 9.3148704 | H21: =H20*H8 -> 11.066066 | I21: =I20*I8 -> 13.146486 | J21: =J20*J8 -> 15.618026 | K21: =K20*K8 -> 18.554215 | L21: =L20*L8 -> 22.042407 | ... S21: =S20*S8 -> 73.61632
C22: Free Cash Flow | E22: =E16*(1-$D$17)-E19-E21 -> 15.1272 | F22: =F16*(1-$D$17)-F19-F21 -> 17.971114 | G22: =G16*(1-$D$17)-G19-G21 -> 21.275069 | H22: =H16*(1-$D$17)-H19-H21 -> 25.274783 | I22: =I16*(1-$D$17)-I19-I21 -> 30.026442 | J22: =J16*(1-$D$17)-J19-J21 -> 34.2114 | K22: =K16*(1-$D$17)-K19-K21 -> 40.643143 | L22: =L16*(1-$D$17)-L19-L21 -> 48.284054 | ... S22: =S16*(1-$D$17)-S19-S21 -> 184.47575
C24: Rolling WACC | E24: =Comparable_Analysis!$H$40 -> 0.091141 | F24: =Comparable_Analysis!$H$40 -> 0.091141 | G24: =Comparable_Analysis!$H$40 -> 0.091141 | H24: =Comparable_Analysis!$H$40 -> 0.091141 | I24: =Comparable_Analysis!$H$40 -> 0.091141 | J24: =Comparable_Analysis!$H$42 -> 0.086078 | K24: =Comparable_Analysis!$H$42 -> 0.086078 | L24: =Comparable_Analysis!$H$42 -> 0.086078 | M24: =Comparable_Analysis!$H$42 -> 0.086078 | N24: =Comparable_Analysis!$H$42 -> 0.086078 | O24: =Comparable_Analysis!$H44 -> 0.076608 | P24: =Comparable_Analysis!$H44 -> 0.076608 | Q24: =Comparable_Analysis!$H44 -> 0.076608 | R24: =Comparable_Analysis!$H44 -> 0.076608 | S24: =Comparable_Analysis!$H44 -> 0.076608
C25: Discount Factor | E25: =(1)/(1+E24)^E7 -> 0.91647184 | F25: =(1)/(1+F24)^F7 -> 0.83992063 | G25: =(1)/(1+G24)^G7 -> 0.76976361 | H25: =(1)/(1+H24)^H7 -> 0.70546667 | I25: =(1)/(1+I24)^I7 -> 0.64654034 | J25: =(1)/(1+J24)^J7 -> 0.60930382 | K25: =(1)/(1+K24)^K7 -> 0.56101295 | L25: =(1)/(1+L24)^L7 -> 0.51654941 | ... S25: =(1)/(1+S24)^S7 -> 0.33047298
C26: DCF | E26: =E22*E25 -> 13.863653 | F26: =F22*F25 -> 15.094309 | G26: =G22*G25 -> 16.376774 | H26: =H22*H25 -> 17.830517 | I26: =I22*I25 -> 19.413306 | J26: =J22*J25 -> 20.845137 | K26: =K22*K25 -> 22.80133 | L26: =L22*L25 -> 24.941099 | ... S26: =S22*S25 -> 60.96425
C27: SUM(Discount Factor*FCF) | E27: =SUM(E26:S26) -> 461.06149
C28: Terminal Value | E28: =S22*S25/(S24-D30) -> 1308.0212
C29: Total DCF Value | E29: =E27+E28 -> 1769.0827
C30: GDP Growth | D30: 0.03
C32: Sensitivity Analysis
C34: Implied DCF Valuation with changing CAGR Margin and initial Sales
F35: Initial Sales
E36: =E28+E27 -> 1769.0827 | F36: 25 | G36: 50 | H36: 75 | I36: 100 | J36: 125 | K36: 150 | L36: 175 | M36: 200 | N36: 225 | O36: 250 | P36: 275 | Q36: 300
D37: CAGR | E37: 0.05 | F37: 76.867804 | G37: 153.73561 | H37: 230.60341 | I37: 307.47122 | J37: 384.33902 | K37: 461.20683 | L37: 538.07463 | M37: 614.94243 | N37: 691.81024 | O37: 768.67804 | P37: 845.54585 | Q37: 922.41365 | R37: NPV < 0
E38: 0.1 | F38: 130.2783 | G38: 260.55659 | H38: 390.83489 | I38: 521.11318 | J38: 651.39148 | K38: 781.66977 | L38: 911.94807 | M38: 1042.2264 | N38: 1172.5047 | O38: 1302.783 | P38: 1433.0613 | Q38: 1563.3395
E39: 0.15 | F39: 222.85345 | G39: 445.70689 | H39: 668.56034 | I39: 891.41379 | J39: 1114.2672 | K39: 1337.1207 | L39: 1559.9741 | M39: 1782.8276 | N39: 2005.681 | O39: 2228.5345 | P39: 2451.3879 | Q39: 2674.2414 | R39: NPV > 0
E40: 0.2 | F40: 380.86008 | G40: 761.72016 | H40: 1142.5802 | I40: 1523.4403 | J40: 1904.3004 | K40: 2285.1605 | L40: 2666.0206 | M40: 3046.8807 | N40: 3427.7407 | O40: 3808.6008 | P40: 4189.4609 | Q40: 4570.321
E41: 0.25 | F41: 646.15826 | G41: 1292.3165 | H41: 1938.4748 | I41: 2584.633 | J41: 3230.7913 | K41: 3876.9495 | L41: 4523.1078 | M41: 5169.2661 | N41: 5815.4243 | O41: 6461.5826 | P41: 7107.7408 | Q41: 7753.8991
E42: 0.3 | F42: 1084.2734 | G42: 2168.5468 | H42: 3252.8202 | I42: 4337.0936 | J42: 5421.367 | K42: 6505.6404 | L42: 7589.9138 | M42: 8674.1872 | N42: 9758.4606 | O42: 10842.734 | P42: 11927.007 | Q42: 13011.281
E43: 0.35 | F43: 1796.0703 | G43: 3592.1407 | H43: 5388.211 | I43: 7184.2814 | J43: 8980.3517 | K43: 10776.422 | L43: 12572.492 | M43: 14368.563 | N43: 16164.633 | O43: 17960.703 | P43: 19756.774 | Q43: 21552.844
E44: 0.4 | F44: 2934.3978 | G44: 5868.7957 | H44: 8803.1935 | I44: 11737.591 | J44: 14671.989 | K44: 17606.387 | L44: 20540.785 | M44: 23475.183 | N44: 26409.581 | O44: 29343.978 | P44: 32278.376 | Q44: 35212.774
E45: 0.45 | F45: 4727.5083 | G45: 9455.0166 | H45: 14182.525 | I45: 18910.033 | J45: 23637.542 | K45: 28365.05 | L45: 33092.558 | M45: 37820.067 | N45: 42547.575 | O45: 47275.083 | P45: 52002.592 | Q45: 56730.1
...
