Workbook
Name IQ_CH: 110000
Name IQ_CQ: 5000
Name IQ_CY: 10000
Name IQ_DAILY: 500000
Name IQ_FH: 100000
Name IQ_FQ: 500
Name IQ_FY: 1000
Name IQ_LTM: 2000
Name IQ_MONTH: 15000
Name IQ_NTM: 6000
Name IQ_WEEK: 50000
Name IQ_YTD: 3000

Sheet Inputs
B2: Choose Case
B3: Base Case | E3: 1
B4: Best Case
B5: Worst Case
B7: Amounts in USD m. | D7: 2017 | E7: =D7+1 -> 2018 | F7: =E7+1 -> 2019 | G7: =F7+1 -> 2020 | H7: =G7+1 -> 2021 | I7: =H7+1 -> 2022 | J7: =I7+1 -> 2023 | K7: =J7+1 -> 2024 | L7: =K7+1 -> 2025 | ... V7: =U7+1 -> 2035
B8: Sales Forecasts
B10: Sales Forecasts | D10: =OFFSET(D11,$E$3,0) -> 0 | E10: =OFFSET(E11,$E$3,0) -> 0 | F10: =OFFSET(F11,$E$3,0) -> 0 | G10: =OFFSET(G11,$E$3,0) -> 0 | H10: =OFFSET(H11,$E$3,0) -> 0 | I10: =OFFSET(I11,$E$3,0) -> 0 | J10: =OFFSET(J11,$E$3,0) -> 0 | K10: =OFFSET(K11,$E$3,0) -> 100 | ... V10: =OFFSET(V11,$E$3,0) -> 500
B12: Base Case | D12: 0 | E12: 0 | F12: 0 | G12: 0 | H12: 0 | I12: 0 | J12: 0 | K12: 100 | L12: 300 | M12: 500 | N12: 1000 | O12: 2000 | P12: 2900 | Q12: 3000 | R12: 3000 | S12: 2500 | T12: 2000 | U12: 1000 | V12: 500
B13: Best Case | D13: 0 | E13: 0 | F13: 0 | G13: 0 | H13: 0 | I13: 0 | J13: 100 | K13: 300 | L13: 500 | M13: 1000 | N13: 2000 | O13: 3000 | P13: 4000 | Q13: 4000 | R13: 3500 | S13: 3000 | T13: 2000 | U13: 1000 | V13: 500
B14: Worst Case | D14: 0 | E14: 0 | F14: 0 | G14: 0 | H14: 0 | I14: 0 | J14: 0 | K14: 0 | L14: 50 | M14: 100 | N14: 400 | O14: 1500 | P14: 2000 | Q14: 2000 | R14: 1500 | S14: 1000 | T14: 1000 | U14: 500 | V14: 100
B16: Licensee Upfront Payment
B17: Upfront | D17: 25 | E17: 0 | F17: 0 | G17: 0 | H17: 0 | I17: 0 | J17: 0 | K17: 0 | L17: 0 | M17: 0 | N17: 0 | O17: 0 | P17: 0 | Q17: 0 | R17: 0 | S17: 0 | T17: 0 | U17: 0 | V17: 0
B19: Probability of Success
B20: Phase I | C20: 0.628
B21: Phase II | C21: 0.246
B22: Phase III | C22: 0.401
B23: Approval | C23: 0.824
B25: Cumulative
B26: Phase I | C26: =C20 -> 0.628
B27: Phase II | C27: =C26*C21 -> 0.154488
B28: Phase III | C28: =C27*C22 -> 0.061949688
B29: Approval | C29: =C28*C23 -> 0.051046543
B30: Licensee R&D Expenses
B31: Phase I | D31: =OFFSET(D32,$E$3,0) -> 5 | E31: =OFFSET(E32,$E$3,0) -> 5 | F31: =OFFSET(F32,$E$3,0) -> 0 | G31: =OFFSET(G32,$E$3,0) -> 0 | H31: =OFFSET(H32,$E$3,0) -> 0 | I31: =OFFSET(I32,$E$3,0) -> 0 | J31: =OFFSET(J32,$E$3,0) -> 0 | K31: =OFFSET(K32,$E$3,0) -> 0 | ... V31: =OFFSET(V32,$E$3,0) -> 0
B33: Base Case | D33: 5 | E33: 5
B34: Best Case | D34: 5 | E34: 5
B35: Worst Case | D35: 5 | E35: 5
B37: Phase II | D37: =OFFSET(D38,$E$3,0) -> 0 | E37: =OFFSET(E38,$E$3,0) -> 0 | F37: =OFFSET(F38,$E$3,0) -> 15 | G37: =OFFSET(G38,$E$3,0) -> 15 | H37: =OFFSET(H38,$E$3,0) -> 0 | I37: =OFFSET(I38,$E$3,0) -> 0 | J37: =OFFSET(J38,$E$3,0) -> 0 | K37: =OFFSET(K38,$E$3,0) -> 0 | ... V37: =OFFSET(V38,$E$3,0) -> 0
B39: Base Case | F39: 15 | G39: 15
B40: Best Case | F40: 15 | G40: 15
B41: Worst Case | F41: 10 | G41: 10 | H41: 10
B43: Phase III | D43: =OFFSET(D44,$E$3,0) -> 0 | E43: =OFFSET(E44,$E$3,0) -> 0 | F43: =OFFSET(F44,$E$3,0) -> 0 | G43: =OFFSET(G44,$E$3,0) -> 0 | H43: =OFFSET(H44,$E$3,0) -> 25 | I43: =OFFSET(I44,$E$3,0) -> 25 | J43: =OFFSET(J44,$E$3,0) -> 25 | K43: =OFFSET(K44,$E$3,0) -> 0 | ... V43: =OFFSET(V44,$E$3,0) -> 0
B45: Base Case | H45: 25 | I45: 25 | J45: 25
B46: Best Case | H46: 37.5 | I46: 37.5
B47: Worst Case | I47: 25 | J47: 25 | K47: 25
B49: Approval | D49: =OFFSET(D50,$E$3,0) -> 0 | E49: =OFFSET(E50,$E$3,0) -> 0 | F49: =OFFSET(F50,$E$3,0) -> 0 | G49: =OFFSET(G50,$E$3,0) -> 0 | H49: =OFFSET(H50,$E$3,0) -> 0 | I49: =OFFSET(I50,$E$3,0) -> 0 | J49: =OFFSET(J50,$E$3,0) -> 0 | K49: =OFFSET(K50,$E$3,0) -> 2 | ... V49: =OFFSET(V50,$E$3,0) -> 0
B51: Base Case | K51: 2
B52: Best Case | J52: 2
B53: Worst Case | L53: 2
B55: Milestone Payments
...

Sheet Calc
B1: Amounts in USD m. | D1: 2017 | E1: =D1+1 -> 2018 | F1: =E1+1 -> 2019 | G1: =F1+1 -> 2020 | H1: =G1+1 -> 2021 | I1: =H1+1 -> 2022 | J1: =I1+1 -> 2023 | K1: =J1+1 -> 2024 | L1: =K1+1 -> 2025 | ... V1: =U1+1 -> 2035
B2: Sales Forecasts
B3: Sales Forecasts | D3: =Inputs!D10 -> 0 | E3: =Inputs!E10 -> 0 | F3: =Inputs!F10 -> 0 | G3: =Inputs!G10 -> 0 | H3: =Inputs!H10 -> 0 | I3: =Inputs!I10 -> 0 | J3: =Inputs!J10 -> 0 | K3: =Inputs!K10 -> 100 | ... V3: =Inputs!V10 -> 500
B4: Risk Adjusted Sales Forecasts | C4: =Inputs!C29 -> 0.051046543 | D4: =$C4*D3 -> 0 | E4: =$C4*E3 -> 0 | F4: =$C4*F3 -> 0 | G4: =$C4*G3 -> 0 | H4: =$C4*H3 -> 0 | I4: =$C4*I3 -> 0 | J4: =$C4*J3 -> 0 | K4: =$C4*K3 -> 5.1046543 | ... V4: =$C4*V3 -> 25.523271
B6: Upfront Payments to Licensor
B7: Upfront | D7: =Inputs!D17 -> 25 | E7: =Inputs!E17 -> 0 | F7: =Inputs!F17 -> 0 | G7: =Inputs!G17 -> 0 | H7: =Inputs!H17 -> 0 | I7: =Inputs!I17 -> 0 | J7: =Inputs!J17 -> 0 | K7: =Inputs!K17 -> 0 | ... V7: =Inputs!V17 -> 0
B9: Licensee - Risk Adjusted R&D Expenses
B10: Phase I | C10: =INDEX(Inputs!$B$26:$C$29,MATCH(B10,Inputs!$B$26:$B$29,0),2) -> 0.628 | D10: =$C10*Inputs!D31 -> 3.14 | E10: =$C10*Inputs!E31 -> 3.14 | F10: =$C10*Inputs!F31 -> 0 | G10: =$C10*Inputs!G31 -> 0 | H10: =$C10*Inputs!H31 -> 0 | I10: =$C10*Inputs!I31 -> 0 | J10: =$C10*Inputs!J31 -> 0 | K10: =$C10*Inputs!K31 -> 0 | ... V10: =$C10*Inputs!V31 -> 0
B11: Phase II | C11: =INDEX(Inputs!$B$26:$C$29,MATCH(B11,Inputs!$B$26:$B$29,0),2) -> 0.154488 | D11: =$C11*Inputs!D37 -> 0 | E11: =$C11*Inputs!E37 -> 0 | F11: =$C11*Inputs!F37 -> 2.31732 | G11: =$C11*Inputs!G37 -> 2.31732 | H11: =$C11*Inputs!H37 -> 0 | I11: =$C11*Inputs!I37 -> 0 | J11: =$C11*Inputs!J37 -> 0 | K11: =$C11*Inputs!K37 -> 0 | ... V11: =$C11*Inputs!V37 -> 0
B12: Phase III | C12: =INDEX(Inputs!$B$26:$C$29,MATCH(B12,Inputs!$B$26:$B$29,0),2) -> 0.061949688 | D12: =$C12*Inputs!D43 -> 0 | E12: =$C12*Inputs!E43 -> 0 | F12: =$C12*Inputs!F43 -> 0 | G12: =$C12*Inputs!G43 -> 0 | H12: =$C12*Inputs!H43 -> 1.5487422 | I12: =$C12*Inputs!I43 -> 1.5487422 | J12: =$C12*Inputs!J43 -> 1.5487422 | K12: =$C12*Inputs!K43 -> 0 | ... V12: =$C12*Inputs!V43 -> 0
B13: Approval | C13: =INDEX(Inputs!$B$26:$C$29,MATCH(B13,Inputs!$B$26:$B$29,0),2) -> 0.051046543 | D13: =$C13*Inputs!D49 -> 0 | E13: =$C13*Inputs!E49 -> 0 | F13: =$C13*Inputs!F49 -> 0 | G13: =$C13*Inputs!G49 -> 0 | H13: =$C13*Inputs!H49 -> 0 | I13: =$C13*Inputs!I49 -> 0 | J13: =$C13*Inputs!J49 -> 0 | K13: =$C13*Inputs!K49 -> 0.10209309 | ... V13: =$C13*Inputs!V49 -> 0
B15: Risk Adj. Milestone Payments to Licensor
B16: Phase I | C16: =C10 -> 0.628 | D16: =$C16*Inputs!D56 -> 0 | E16: =$C16*Inputs!E56 -> 12.56 | F16: =$C16*Inputs!F56 -> 0 | G16: =$C16*Inputs!G56 -> 0 | H16: =$C16*Inputs!H56 -> 0 | I16: =$C16*Inputs!I56 -> 0 | J16: =$C16*Inputs!J56 -> 0 | K16: =$C16*Inputs!K56 -> 0 | ... V16: =$C16*Inputs!V56 -> 0
B17: Phase II | C17: =C11 -> 0.154488 | D17: =$C17*Inputs!D62 -> 0 | E17: =$C17*Inputs!E62 -> 0 | F17: =$C17*Inputs!F62 -> 0 | G17: =$C17*Inputs!G62 -> 5.40708 | H17: =$C17*Inputs!H62 -> 0 | I17: =$C17*Inputs!I62 -> 0 | J17: =$C17*Inputs!J62 -> 0 | K17: =$C17*Inputs!K62 -> 0 | ... V17: =$C17*Inputs!V62 -> 0
B18: Phase III | C18: =C12 -> 0.061949688 | D18: =$C18*Inputs!D68 -> 0 | E18: =$C18*Inputs!E68 -> 0 | F18: =$C18*Inputs!F68 -> 0 | G18: =$C18*Inputs!G68 -> 0 | H18: =$C18*Inputs!H68 -> 0 | I18: =$C18*Inputs!I68 -> 0 | J18: =$C18*Inputs!J68 -> 4.3364782 | K18: =$C18*Inputs!K68 -> 0 | ... V18: =$C18*Inputs!V68 -> 0
B19: Approval | C19: =C13 -> 0.051046543 | D19: =$C19*Inputs!D74 -> 0 | E19: =$C19*Inputs!E74 -> 0 | F19: =$C19*Inputs!F74 -> 0 | G19: =$C19*Inputs!G74 -> 0 | H19: =$C19*Inputs!H74 -> 0 | I19: =$C19*Inputs!I74 -> 0 | J19: =$C19*Inputs!J74 -> 0 | K19: =$C19*Inputs!K74 -> 0.051046543 | ... V19: =$C19*Inputs!V74 -> 0
B21: Licensee Expenses
B22: COGS | D22: =Inputs!D81 -> 0.15 | E22: =Inputs!E81 -> 0.15 | F22: =Inputs!F81 -> 0.15 | G22: =Inputs!G81 -> 0.15 | H22: =Inputs!H81 -> 0.15 | I22: =Inputs!I81 -> 0.15 | J22: =Inputs!J81 -> 0.15 | K22: =Inputs!K81 -> 0.15 | ... V22: =Inputs!V81 -> 0.15
B23: SG&A | D23: =Inputs!D82 -> 0.2 | E23: =Inputs!E82 -> 0.2 | F23: =Inputs!F82 -> 0.2 | G23: =Inputs!G82 -> 0.2 | H23: =Inputs!H82 -> 0.2 | I23: =Inputs!I82 -> 0.2 | J23: =Inputs!J82 -> 0.2 | K23: =Inputs!K82 -> 0.2 | ... V23: =Inputs!V82 -> 0.2
B25: Royalties Payable to Licensor
B26: Royalty Rate | D26: =INDEX(Inputs!$B$86:$C$92,MATCH(D3,Inputs!$B$86:$B$92,1),2) -> 0.03 | E26: =INDEX(Inputs!$B$86:$C$92,MATCH(E3,Inputs!$B$86:$B$92,1),2) -> 0.03 | F26: =INDEX(Inputs!$B$86:$C$92,MATCH(F3,Inputs!$B$86:$B$92,1),2) -> 0.03 | G26: =INDEX(Inputs!$B$86:$C$92,MATCH(G3,Inputs!$B$86:$B$92,1),2) -> 0.03 | H26: =INDEX(Inputs!$B$86:$C$92,MATCH(H3,Inputs!$B$86:$B$92,1),2) -> 0.03 | I26: =INDEX(Inputs!$B$86:$C$92,MATCH(I3,Inputs!$B$86:$B$92,1),2) -> 0.03 | J26: =INDEX(Inputs!$B$86:$C$92,MATCH(J3,Inputs!$B$86:$B$92,1),2) -> 0.03 | K26: =INDEX(Inputs!$B$86:$C$92,MATCH(K3,Inputs!$B$86:$B$92,1),2) -> 0.04 | ... V26: =INDEX(Inputs!$B$86:$C$92,MATCH(V3,Inputs!$B$86:$B$92,1),2) -> 0.045
B27: Royalty Payments to Licensor | D27: =D26*D4 -> 0 | E27: =E26*E4 -> 0 | F27: =F26*F4 -> 0 | G27: =G26*G4 -> 0 | H27: =H26*H4 -> 0 | I27: =I26*I4 -> 0 | J27: =J26*J4 -> 0 | K27: =K26*K4 -> 0.20418617 | ... V27: =V26*V4 -> 1.1485472
B29: Cash Flows
B30: Licensee Cash Flows (pre-tax) | D30: =D4*(1-D22-D23)-D7-SUM(D10:D13)-SUM(D16:D19)-D27 -> -28.14 | E30: =E4*(1-E22-E23)-E7-SUM(E10:E13)-SUM(E16:E19)-E27 -> -15.7 | F30: =F4*(1-F22-F23)-F7-SUM(F10:F13)-SUM(F16:F19)-F27 -> -2.31732 | G30: =G4*(1-G22-G23)-G7-SUM(G10:G13)-SUM(G16:G19)-G27 -> -7.7244 | H30: =H4*(1-H22-H23)-H7-SUM(H10:H13)-SUM(H16:H19)-H27 -> -1.5487422 | I30: =I4*(1-I22-I23)-I7-SUM(I10:I13)-SUM(I16:I19)-I27 -> -1.5487422 | J30: =J4*(1-J22-J23)-J7-SUM(J10:J13)-SUM(J16:J19)-J27 -> -5.8852204 | K30: =K4*(1-K22-K23)-K7-SUM(K10:K13)-SUM(K16:K19)-K27 -> 2.9606995 | ... V30: =V4*(1-V22-V23)-V7-SUM(V10:V13)-SUM(V16:V19)-V27 -> 15.441579
B32: Tax loss (Opening) | D32: 0 | E32: =D35 -> -28.14 | F32: =E35 -> -43.84 | G32: =F35 -> -46.15732 | H32: =G35 -> -53.88172 | I32: =H35 -> -55.430462 | J32: =I35 -> -56.979204 | K32: =J35 -> -62.864425 | L32: =K35 -> -59.903725 | ... V32: =U35 -> 0
B33: Tax loss Utilization | D33: =-MAX(MIN(-D32,D30),0) -> 0 | E33: =-MAX(MIN(-E32,E30),0) -> 0 | F33: =-MAX(MIN(-F32,F30),0) -> 0 | G33: =-MAX(MIN(-G32,G30),0) -> 0 | H33: =-MAX(MIN(-H32,H30),0) -> 0 | I33: =-MAX(MIN(-I32,I30),0) -> 0 | J33: =-MAX(MIN(-J32,J30),0) -> 0 | K33: =-MAX(MIN(-K32,K30),0) -> -2.9606995 | ... V33: =-MAX(MIN(-V32,V30),0) -> 0
B34: Tax loss Generation | D34: =IF(D30<0,D30,0) -> -28.14 | E34: =IF(E30<0,E30,0) -> -15.7 | F34: =IF(F30<0,F30,0) -> -2.31732 | G34: =IF(G30<0,G30,0) -> -7.7244 | H34: =IF(H30<0,H30,0) -> -1.5487422 | I34: =IF(I30<0,I30,0) -> -1.5487422 | J34: =IF(J30<0,J30,0) -> -5.8852204 | K34: =IF(K30<0,K30,0) -> 0 | ... V34: =IF(V30<0,V30,0) -> 0
B35: Tax loss (Close) | D35: =D32+D34-D33 -> -28.14 | E35: =E32+E34-E33 -> -43.84 | F35: =F32+F34-F33 -> -46.15732 | G35: =G32+G34-G33 -> -53.88172 | H35: =H32+H34-H33 -> -55.430462 | I35: =I32+I34-I33 -> -56.979204 | J35: =J32+J34-J33 -> -62.864425 | K35: =K32+K34-K33 -> -59.903725 | ... V35: =V32+V34-V33 -> 0
B37: Taxable Profit | D37: =D30+D33 -> -28.14 | E37: =E30+E33 -> -15.7 | F37: =F30+F33 -> -2.31732 | G37: =G30+G33 -> -7.7244 | H37: =H30+H33 -> -1.5487422 | I37: =I30+I33 -> -1.5487422 | J37: =J30+J33 -> -5.8852204 | K37: =K30+K33 -> 0 | ... V37: =V30+V33 -> 15.441579
B38: Income Tax | D38: =IF(D37<=0,0,Inputs!$C$95*D37) -> 0 | E38: =IF(E37<=0,0,Inputs!$C$95*E37) -> 0 | F38: =IF(F37<=0,0,Inputs!$C$95*F37) -> 0 | G38: =IF(G37<=0,0,Inputs!$C$95*G37) -> 0 | H38: =IF(H37<=0,0,Inputs!$C$95*H37) -> 0 | I38: =IF(I37<=0,0,Inputs!$C$95*I37) -> 0 | J38: =IF(J37<=0,0,Inputs!$C$95*J37) -> 0 | K38: =IF(K37<=0,0,Inputs!$C$95*K37) -> 0 | ... V38: =IF(V37<=0,0,Inputs!$C$95*V37) -> 5.4045527
B40: Licensee Cash Flows (after-tax) | D40: =D30-D38 -> -28.14 | E40: =E30-E38 -> -15.7 | F40: =F30-F38 -> -2.31732 | G40: =G30-G38 -> -7.7244 | H40: =H30-H38 -> -1.5487422 | I40: =I30-I38 -> -1.5487422 | J40: =J30-J38 -> -5.8852204 | K40: =K30-K38 -> 2.9606995 | ... V40: =V30-V38 -> 10.037027
B41: Discount Period | D41: =((DATE(D1,12,31)-DATE((D1),1,1))/365)/2 -> 0.49863014 | E41: =D41+1 -> 1.4986301 | F41: =E41+1 -> 2.4986301 | G41: =F41+1 -> 3.4986301 | H41: =G41+1 -> 4.4986301 | I41: =H41+1 -> 5.4986301 | J41: =I41+1 -> 6.4986301 | K41: =J41+1 -> 7.4986301 | L41: =K41+1 -> 8.4986301 | ... V41: =U41+1 -> 18.49863
B42: Discount Rate | D42: =WACC!$C$22 -> 0.102 | E42: =WACC!$C$22 -> 0.102 | F42: =WACC!$C$22 -> 0.102 | G42: =WACC!$C$22 -> 0.102 | H42: =WACC!$C$22 -> 0.102 | I42: =WACC!$C$22 -> 0.102 | J42: =WACC!$C$22 -> 0.102 | K42: =WACC!$C$22 -> 0.102 | ... V42: =WACC!$C$22 -> 0.102
B43: Discount Factor | D43: =1/(1+D42)^D41 -> 0.95272374 | E43: =1/(1+E42)^E41 -> 0.8645406 | F43: =1/(1+F42)^F41 -> 0.7845196 | G43: =1/(1+G42)^G41 -> 0.71190526 | H43: =1/(1+H42)^H41 -> 0.64601203 | I43: =1/(1+I42)^I41 -> 0.58621782 | J43: =1/(1+J42)^J41 -> 0.53195809 | K43: =1/(1+K42)^K41 -> 0.48272059 | ... V43: =1/(1+V42)^V41 -> 0.16584344
B44: Post-Commercialisation Value | D44: =SUMPRODUCT(L43:V43,L40:V40) -> 105.10881
B45: Pre-Commercialisation Value | D45: =SUMPRODUCT(D43:K43,D40:K40) -> -51.309864
B46: Terminal Value | D46: =(V40*(1+Inputs!$C$101)/(V42-Inputs!$C$101))*V43*K43 -> 3.5800601
B47: Licensee NPV | D47: =SUM(D44:D46) -> 57.37901
B49: Licensor Cash Flows (pre-tax) | D49: =D7+D27+SUM(D16:D19)+SUM(D10:D13) -> 28.14 | E49: =E7+E27+SUM(E16:E19)+SUM(E10:E13) -> 15.7 | F49: =F7+F27+SUM(F16:F19)+SUM(F10:F13) -> 2.31732 | G49: =G7+G27+SUM(G16:G19)+SUM(G10:G13) -> 7.7244 | H49: =H7+H27+SUM(H16:H19)+SUM(H10:H13) -> 1.5487422 | I49: =I7+I27+SUM(I16:I19)+SUM(I10:I13) -> 1.5487422 | J49: =J7+J27+SUM(J16:J19)+SUM(J10:J13) -> 5.8852204 | K49: =K7+K27+SUM(K16:K19)+SUM(K10:K13) -> 0.3573258 | ... V49: =V7+V27+SUM(V16:V19)+SUM(V10:V13) -> 1.1485472
B50: Income Tax | D50: =IF(D3<=0,D49*Inputs!$C$96,Inputs!$C$95*D49) -> 7.035 | E50: =IF(E3<=0,E49*Inputs!$C$96,Inputs!$C$95*E49) -> 3.925 | F50: =IF(F3<=0,F49*Inputs!$C$96,Inputs!$C$95*F49) -> 0.57933 | G50: =IF(G3<=0,G49*Inputs!$C$96,Inputs!$C$95*G49) -> 1.9311 | H50: =IF(H3<=0,H49*Inputs!$C$96,Inputs!$C$95*H49) -> 0.38718555 | I50: =IF(I3<=0,I49*Inputs!$C$96,Inputs!$C$95*I49) -> 0.38718555 | J50: =IF(J3<=0,J49*Inputs!$C$96,Inputs!$C$95*J49) -> 1.4713051 | K50: =IF(K3<=0,K49*Inputs!$C$96,Inputs!$C$95*K49) -> 0.12506403 | ... V50: =IF(V3<=0,V49*Inputs!$C$96,Inputs!$C$95*V49) -> 0.40199153
...

Sheet WACC
B2: Post-Commercialisation Discount Rate | C2: Licensee | D2: Licensor
B3: Equity Beta
B4: Unlevered beta | C4: ='Beta, Cost of Debt'!C13 -> 1.2824238 | D4: ='Beta, Cost of Debt'!C27 -> 2.0704178
B5: Debt to Total Capital (D/(D+E)) | C5: =C7/(1+C7) -> 0.17838422 | D5: =D7/(1+D7) -> 0.039299873
B6: Equity to Total Capital ratio (E/(D+E)) | C6: =1-C5 -> 0.82161578 | D6: =1-D5 -> 0.96070013
B7: Debt to Equity (D/E) | C7: ='Beta, Cost of Debt'!C11 -> 0.21711391 | D7: ='Beta, Cost of Debt'!C25 -> 0.040907534
B8: Tax rate | C8: =Inputs!C95 -> 0.35 | D8: =Inputs!C95 -> 0.35
B9: Relevered beta | C9: =C4*(1+(1-C8)*C7) -> 1.4634046 | D9: =D4*(1+(1-D8)*D7) -> 2.12547
B11: Capital Asset Pricing Model
B12: Risk-free rate (20 yr. U.S. gov. bond yield) | C12: 0.0279 | D12: 0.0279
B13: Market Risk Premium (Damodaran) | C13: 0.06 | D13: 0.06
B14: Size premium | C14: =IF((C28*Inputs!C99+WACC!C29)<0,0,C28*Inputs!C99+WACC!C29) -> 0 | D14: =IF((C28*Inputs!C98+WACC!C29)<0,0,C28*Inputs!C98+WACC!C29) -> 0.05
B15: Cost of equity | C15: =C12+C9*C13+C14 -> 0.11570428 | D15: =D12+D9*D13+D14 -> 0.2054282
B17: WACC
B18: Cost of Equity | C18: =C15 -> 0.11570428 | D18: =D15 -> 0.2054282
B19: Pre-tax cost of debt | C19: ='Beta, Cost of Debt'!M8 -> 0.063506636 | D19: ='Beta, Cost of Debt'!M8 -> 0.063506636
B20: Post-tax cost of debt | C20: =C19*(1-C8) -> 0.041279313 | D20: =D19*(1-D8) -> 0.041279313
B21: % net debt | C21: =1-C6 -> 0.17838422 | D21: =1-D6 -> 0.039299873
B22: Discount Rate | C22: =ROUND(C18*C6+C21*C20,3) -> 0.102 | D22: =ROUND(D18*D6+D21*D20,3) -> 0.199
B24: Size Premium Calculation (Duff & Phelps) | C24: Market Value of Equity | D24: Size Premium
C25: 200 | D25: 0.03
C26: 150 | D26: 0.05
C27: 100 | D27: 0.07
B28: Equation Slope | C28: =(D27-D25)/(C27-C25) -> -0.0004
B29: EquatIon Intercept | C29: =(D27)-C27*C28 -> 0.11

Sheet Beta, Cost of Debt
B2: Licensee Beta Calculation
B3: Comparable Companies | C3: Debt | D3: Market Value of Equity1 | E3: EBIT | F3: Interest Expense | G3: Interest Coverage Ratio | H3: Total Capital | I3: Debt to Capital Ratio | J3: Marginal Tax Rate | K3: Levered Equity Beta (Adjusted) | L3: Unlevered Equity Beta | M3: Cost of Debt (Bond yields)
B4: Amgen | C4: =4403+30193 -> 34596 | D4: 128961 | E4: 8470 | F4: 1095 | G4: =IF(OR(E4<=0,F4<=0),"N/A",E4/F4) -> 7.7351598 | H4: =C4+D4 -> 163557 | I4: =C4/H4 -> 0.21152259 | J4: =Inputs!$C$95 -> 0.35 | K4: 1.15 | L4: =K4/(1+(1-J4)*(I4/(1-I4))) -> 0.97924541 | M4: =(750*2.1225%+500*2.7%+1000*3.125%+1250*4.4%)/(750+500+1000+1250) -> 0.033048214
B5: Biogen | C5: 6513 | D5: 61657 | E5: 4891 | F5: 277.6 | G5: =IF(OR(E5<=0,F5<=0),"N/A",E5/F5) -> 17.618876 | H5: =C5+D5 -> 68170 | I5: =C5/H5 -> 0.09554056 | J5: =Inputs!$C$95 -> 0.35 | K5: 0.71 | L5: =K5/(1+(1-J5)*(I5/(1-I5))) -> 0.66438262 | M5: =(6.875%*602.6+2.9%*1497.5+3.625%*1014.2+4.05%*1764.6+5.2%*1757.6)/(602.6+1497.5+1014.2+1764.6+1757.6) -> 0.042866345
B6: Celgene | C6: =13788+501 -> 14289 | D6: 91031 | E6: 2254.6 | F6: 310.6 | G6: =IF(OR(E6<=0,F6<=0),"N/A",E6/F6) -> 7.2588538 | H6: =C6+D6 -> 105320 | I6: =C6/H6 -> 0.13567224 | J6: =Inputs!$C$95 -> 0.35 | K6: 1.74 | L6: =K6/(1+(1-J6)*(I6/(1-I6))) -> 1.5789051 | M6: =(300*1.9%+200*2.3%+500*2.25%+500*3.95%+1000*3.25%+700*4%+100*3.625%+250*3.875%)/(300+200+500+500+1000+700+100+250) -> 0.032426056
B7: Abbvie | C7: =36440+377+25 -> 36842 | D7: 99206 | E7: 7537 | F7: 686 | G7: =IF(OR(E7<=0,F7<=0),"N/A",E7/F7) -> 10.98688 | H7: =C7+D7 -> 136048 | I7: =C7/H7 -> 0.27080148 | J7: =Inputs!$C$95 -> 0.35 | K7: 1.58 | L7: =K7/(1+(1-J7)*(I7/(1-I7))) -> 1.2727672 | M7: =(3000*1.92%+3750*2.65%+1000*3.28%+3750*3.66%+2500*4.58%+2700*4.73%)/(3000+3750+1000+3750+2500+2700) -> 0.034085928
B8: Average | I8: =AVERAGE($I$4:$I$7) -> 0.17838422 | L8: =AVERAGE($L$4:$L$7) -> 1.1238251 | M8: =AVERAGE(M4:M7)+WACC!C12 -> 0.063506636
B10: Unlevered Beta (average) | C10: =L8 -> 1.1238251
B11: Debt-to-Equity Ratio (average) | C11: =1/(1-I8)-1 -> 0.21711391
B12: Selected Subject Tax Rate | C12: =Inputs!C95 -> 0.35
B13: Relevered Beta | C13: =C10*(1+(1-C12)*C11) -> 1.2824238
B16: Licensor Beta Calculation
B17: Comparable Companies | C17: Debt | D17: Market Value of Equity1 | E17: EBIT | F17: Interest Expense | G17: Interest Coverage Ratio | H17: Total Capital | I17: Debt to Capital Ratio | J17: Marginal Tax Rate | K17: Levered Equity Beta (Adjusted) | L17: Unlevered Equity Beta
B18: Agios Pharmaceuticals | C18: 0 | D18: 2037.54 | E18: -118.7 | F18: 0 | G18: =IF(OR(E18<=0,F18<=0),"N/A",E18/F18) -> N/A | H18: =C18+D18 -> 2037.54 | I18: =C18/H18 -> 0 | J18: 0.35 | K18: 1.96 | L18: =K18/(1+(1-J18)*(I18/(1-I18))) -> 1.96
B19: Array BioPharma Inc | C19: 113.66 | D19: 1819 | E19: -82 | F19: 11 | G19: =IF(OR(E19<=0,F19<=0),"N/A",E19/F19) -> N/A | H19: =C19+D19 -> 1932.66 | I19: =C19/H19 -> 0.058810137 | J19: 0.35 | K19: 2.11 | L19: =K19/(1+(1-J19)*(I19/(1-I19))) -> 2.0276468
B20: Clovis Oncology | C20: 281 | D20: 2575 | E20: -376 | F20: 8.4 | G20: =IF(OR(E20<=0,F20<=0),"N/A",E20/F20) -> N/A | H20: =C20+D20 -> 2856 | I20: =C20/H20 -> 0.098389356 | J20: 0.35 | K20: 1.97 | L20: =K20/(1+(1-J20)*(I20/(1-I20))) -> 1.8395192
B21: Epizyme | C21: 0 | D21: 732 | E21: -132.5 | F21: 0 | G21: =IF(OR(E21<=0,F21<=0),"N/A",E21/F21) -> N/A | H21: =C21+D21 -> 732 | I21: =C21/H21 -> 0 | J21: 0.35 | K21: 2.24 | L21: =K21/(1+(1-J21)*(I21/(1-I21))) -> 2.24
B22: Average | I22: =AVERAGE($I$18:$I$21) -> 0.039299873 | L22: =AVERAGE($L$18:$L$21) -> 2.0167915
B24: Unlevered Beta (average) | C24: =L22 -> 2.0167915
B25: Debt-to-Equity Ratio (average) | C25: =1/(1-I22)-1 -> 0.040907534
B26: Selected Subject Tax Rate | C26: =Inputs!C95 -> 0.35
B27: Relevered Beta | C27: =C24*(1+(1-C26)*C25) -> 2.0704178
B39: For smaller and riskier firms | G39: For large manufacturing firms
B40: If interest coverage ratio is | G40: If interest coverage ratio is
B41: greater than | C41: ≤ to | D41: Rating is | E41: Spread is | G41: > | H41: ≤ to | I41: Rating is | J41: Spread is
B42: -100000 | C42: 0.499999 | D42: D2/D | E42: 0.14 | G42: -100000 | H42: 0.199999 | I42: D2/D | J42: 0.14
B43: 0.5 | C43: 0.799999 | D43: C2/C | E43: 0.105 | G43: 0.2 | H43: 0.649999 | I43: C2/C | J43: 0.105
B44: 0.8 | C44: 1.249999 | D44: Ca2/CC | E44: 0.08 | G44: 0.65 | H44: 0.799999 | I44: Ca2/CC | J44: 0.08
B45: 1.25 | C45: 1.499999 | D45: Caa/CCC | E45: 0.065 | G45: 0.8 | H45: 1.249999 | I45: Caa/CCC | J45: 0.065
B46: 1.5 | C46: 1.999999 | D46: B3/B- | E46: 0.055 | G46: 1.25 | H46: 1.499999 | I46: B3/B- | J46: 0.055
B47: 2 | C47: 2.499999 | D47: B2/B | E47: 0.045 | G47: 1.5 | H47: 1.749999 | I47: B2/B | J47: 0.045
B48: 2.5 | C48: 2.999999 | D48: B1/B+ | E48: 0.0375 | G48: 1.75 | H48: 1.999999 | I48: B1/B+ | J48: 0.0375
B49: 3 | C49: 3.499999 | D49: Ba2/BB | E49: 0.03 | G49: 2 | H49: 2.2499999 | I49: Ba2/BB | J49: 0.03
B50: 3.5 | C50: 3.9999999 | D50: Ba1/BB+ | E50: 0.025 | G50: 2.25 | H50: 2.49999 | I50: Ba1/BB+ | J50: 0.025
B51: 4 | C51: 4.499999 | D51: Baa2/BBB | E51: 0.016 | G51: 2.5 | H51: 2.999999 | I51: Baa2/BBB | J51: 0.016
B52: 4.5 | C52: 5.999999 | D52: A3/A- | E52: 0.0125 | G52: 3 | H52: 4.249999 | I52: A3/A- | J52: 0.0125
B53: 6 | C53: 7.499999 | D53: A2/A | E53: 0.011 | G53: 4.25 | H53: 5.499999 | I53: A2/A | J53: 0.011
... B56: 12.5 | C56: 100000 | D56: Aaa/AAA | E56: 0.006 | G56: 8.5 | H56: 100000 | I56: Aaa/AAA | J56: 0.006
